BEGIN:VCALENDAR
VERSION:2.0
PRODID:-//National Alliance for Radiation Readiness - ECPv6.15.18//NONSGML v1.0//EN
CALSCALE:GREGORIAN
METHOD:PUBLISH
X-ORIGINAL-URL:https://www.radiationready.org
X-WR-CALDESC:Events for National Alliance for Radiation Readiness
REFRESH-INTERVAL;VALUE=DURATION:PT1H
X-Robots-Tag:noindex
X-PUBLISHED-TTL:PT1H
BEGIN:VTIMEZONE
TZID:America/New_York
BEGIN:DAYLIGHT
TZOFFSETFROM:-0500
TZOFFSETTO:-0400
TZNAME:EDT
DTSTART:20250309T070000
END:DAYLIGHT
BEGIN:STANDARD
TZOFFSETFROM:-0400
TZOFFSETTO:-0500
TZNAME:EST
DTSTART:20251102T060000
END:STANDARD
BEGIN:DAYLIGHT
TZOFFSETFROM:-0500
TZOFFSETTO:-0400
TZNAME:EDT
DTSTART:20260308T070000
END:DAYLIGHT
BEGIN:STANDARD
TZOFFSETFROM:-0400
TZOFFSETTO:-0500
TZNAME:EST
DTSTART:20261101T060000
END:STANDARD
BEGIN:DAYLIGHT
TZOFFSETFROM:-0500
TZOFFSETTO:-0400
TZNAME:EDT
DTSTART:20270314T070000
END:DAYLIGHT
BEGIN:STANDARD
TZOFFSETFROM:-0400
TZOFFSETTO:-0500
TZNAME:EST
DTSTART:20271107T060000
END:STANDARD
END:VTIMEZONE
BEGIN:VEVENT
DTSTART;TZID=America/New_York:20261002T080000
DTEND;TZID=America/New_York:20261006T160000
DTSTAMP:20260425T083729
CREATED:20260224T140941Z
LAST-MODIFIED:20260224T140941Z
UID:3168-1790928000-1791302400@www.radiationready.org
SUMMARY:American Academy of Pediatrics (AAP) National Conference & Exhibition
DESCRIPTION:
URL:https://www.radiationready.org/events/american-academy-of-pediatrics-aap-national-conference-exhibition/
LOCATION:San Deigo\, CA\, San Diego\, CA\, United States
END:VEVENT
BEGIN:VEVENT
DTSTART;TZID=America/New_York:20261102T070000
DTEND;TZID=America/New_York:20261106T023000
DTSTAMP:20260425T083729
CREATED:20260412T180833Z
LAST-MODIFIED:20260412T180833Z
UID:3204-1793602800-1793932200@www.radiationready.org
SUMMARY:Radiological Emergency Management Certificate Program
DESCRIPTION:
URL:https://www.radiationready.org/events/radiological-emergency-management-certificate-program/
LOCATION:Boston\, MA\, Boston\, MA\, United States
END:VEVENT
BEGIN:VEVENT
DTSTART;TZID=America/New_York:20261201T090000
DTEND;TZID=America/New_York:20261203T170000
DTSTAMP:20260425T083729
CREATED:20260108T145853Z
LAST-MODIFIED:20260108T145853Z
UID:3136-1796115600-1796317200@www.radiationready.org
SUMMARY:National Healthcare Coalition Conference
DESCRIPTION:
URL:https://www.radiationready.org/events/national-healthcare-coalition-conference/
LOCATION:Gaylord National Resort & Convention Center\, 201 Waterfront Street\, National Harbor\, MD\, 20745\, United States
END:VEVENT
BEGIN:VEVENT
DTSTART;TZID=America/New_York:20261207T080000
DTEND;TZID=America/New_York:20261211T170000
DTSTAMP:20260425T083729
CREATED:20260224T141135Z
LAST-MODIFIED:20260224T141135Z
UID:3172-1796630400-1797008400@www.radiationready.org
SUMMARY:Sixth International Conference on Nuclear Power Plant Life Management (PLiM 6)
DESCRIPTION:
URL:https://www.radiationready.org/events/sixth-international-conference-on-nuclear-power-plant-life-management-plim-6/
LOCATION:Tokyo\, Tokyo\, Japan\, Japan
END:VEVENT
END:VCALENDAR