BEGIN:VCALENDAR
VERSION:2.0
PRODID:-//National Alliance for Radiation Readiness - ECPv6.15.18//NONSGML v1.0//EN
CALSCALE:GREGORIAN
METHOD:PUBLISH
X-WR-CALNAME:National Alliance for Radiation Readiness
X-ORIGINAL-URL:https://www.radiationready.org
X-WR-CALDESC:Events for National Alliance for Radiation Readiness
REFRESH-INTERVAL;VALUE=DURATION:PT1H
X-Robots-Tag:noindex
X-PUBLISHED-TTL:PT1H
BEGIN:VTIMEZONE
TZID:America/New_York
BEGIN:DAYLIGHT
TZOFFSETFROM:-0500
TZOFFSETTO:-0400
TZNAME:EDT
DTSTART:20250309T070000
END:DAYLIGHT
BEGIN:STANDARD
TZOFFSETFROM:-0400
TZOFFSETTO:-0500
TZNAME:EST
DTSTART:20251102T060000
END:STANDARD
BEGIN:DAYLIGHT
TZOFFSETFROM:-0500
TZOFFSETTO:-0400
TZNAME:EDT
DTSTART:20260308T070000
END:DAYLIGHT
BEGIN:STANDARD
TZOFFSETFROM:-0400
TZOFFSETTO:-0500
TZNAME:EST
DTSTART:20261101T060000
END:STANDARD
BEGIN:DAYLIGHT
TZOFFSETFROM:-0500
TZOFFSETTO:-0400
TZNAME:EDT
DTSTART:20270314T070000
END:DAYLIGHT
BEGIN:STANDARD
TZOFFSETFROM:-0400
TZOFFSETTO:-0500
TZNAME:EST
DTSTART:20271107T060000
END:STANDARD
END:VTIMEZONE
BEGIN:VEVENT
DTSTART;TZID=America/New_York:20260716T080000
DTEND;TZID=America/New_York:20260716T170000
DTSTAMP:20260425T101351
CREATED:20251020T212137Z
LAST-MODIFIED:20251020T212137Z
UID:3110-1784188800-1784221200@www.radiationready.org
SUMMARY:In-Place Filter Testing Workshop
DESCRIPTION:
URL:https://www.radiationready.org/events/in-place-filter-testing-workshop/
LOCATION:Boston\, MA\, Boston\, MA\, United States
END:VEVENT
BEGIN:VEVENT
DTSTART;VALUE=DATE:20260705
DTEND;VALUE=DATE:20260710
DTSTAMP:20260425T101351
CREATED:20250428T185530Z
LAST-MODIFIED:20250428T185530Z
UID:3010-1783209600-1783641599@www.radiationready.org
SUMMARY:Health Physics Society Annual Meeting 2026
DESCRIPTION:
URL:https://www.radiationready.org/events/health-physics-society-annual-meeting-2026/
LOCATION:Gaylord National Resort & Convention Center\, 201 Waterfront Street\, National Harbor\, MD\, 20745\, United States
END:VEVENT
BEGIN:VEVENT
DTSTART;TZID=America/New_York:20260608T080000
DTEND;TZID=America/New_York:20260612T170000
DTSTAMP:20260425T101351
CREATED:20251020T212331Z
LAST-MODIFIED:20251020T212331Z
UID:3114-1780905600-1781283600@www.radiationready.org
SUMMARY:Guidelines for Laboratory Design: Health and Safety Considerations
DESCRIPTION:
URL:https://www.radiationready.org/events/guidelines-for-laboratory-design-health-and-safety-considerations-2/
LOCATION:Boston\, MA\, Boston\, MA\, United States
END:VEVENT
BEGIN:VEVENT
DTSTART;TZID=America/New_York:20260427T050000
DTEND;TZID=America/New_York:20260427T080000
DTSTAMP:20260425T101351
CREATED:20260412T180513Z
LAST-MODIFIED:20260412T180513Z
UID:3200-1777266000-1777276800@www.radiationready.org
SUMMARY:Lessons for Radiological Protection from the Chornobyl NPP and Fukushima Daiichi NPP Accidents
DESCRIPTION:
URL:https://www.radiationready.org/events/lessons-for-radiological-protection-from-the-chornobyl-npp-and-fukushima-daiichi-npp-accidents/
LOCATION:MA
END:VEVENT
BEGIN:VEVENT
DTSTART;TZID=America/New_York:20260420T090000
DTEND;TZID=America/New_York:20260423T170000
DTSTAMP:20260425T101351
CREATED:20250716T224732Z
LAST-MODIFIED:20250716T224732Z
UID:3052-1776675600-1776963600@www.radiationready.org
SUMMARY:National Radiological Emergency Preparedness Conference
DESCRIPTION:
URL:https://www.radiationready.org/events/national-radiological-emergency-preparedness-conference/
LOCATION:Kansas City\, Kansas\, Kansas City\, KS\, United States
END:VEVENT
BEGIN:VEVENT
DTSTART;TZID=America/New_York:20260412T080000
DTEND;TZID=America/New_York:20260426T113000
DTSTAMP:20260425T101351
CREATED:20260108T145548Z
LAST-MODIFIED:20260108T145548Z
UID:3133-1775980800-1777203000@www.radiationready.org
SUMMARY:2026 Preparedness Summit: Protecting Our Communities - State and Local Preparedness in Action
DESCRIPTION:
URL:https://www.radiationready.org/events/2026-preparedness-summit-protecting-our-communities-state-and-local-preparedness-in-action/
LOCATION:Baltimore\, MD\, Baltimore\, MD\, United States
END:VEVENT
BEGIN:VEVENT
DTSTART;TZID=America/New_York:20260409T160000
DTEND;TZID=America/New_York:20260409T170000
DTSTAMP:20260425T101351
CREATED:20260304T153005Z
LAST-MODIFIED:20260304T153127Z
UID:3189-1775750400-1775754000@www.radiationready.org
SUMMARY:Past\, Present\, and Future: Reflections from a Radiation Readiness Professional
DESCRIPTION:
URL:https://www.radiationready.org/events/past-present-and-future-reflections-from-a-radiation-readiness-professional/
LOCATION:MA
END:VEVENT
BEGIN:VEVENT
DTSTART;TZID=America/New_York:20260402T120000
DTEND;TZID=America/New_York:20260409T140000
DTSTAMP:20260425T101351
CREATED:20260324T193515Z
LAST-MODIFIED:20260324T193515Z
UID:3195-1775131200-1775743200@www.radiationready.org
SUMMARY:Radiation Readiness: Spring into Readiness Virtual Training Workshops
DESCRIPTION:
URL:https://www.radiationready.org/events/radiation-readiness-spring-into-readiness-virtual-training-workshops/
LOCATION:MA
END:VEVENT
BEGIN:VEVENT
DTSTART;TZID=America/New_York:20260325T090000
DTEND;TZID=America/New_York:20260326T170000
DTSTAMP:20260425T101351
CREATED:20260206T212522Z
LAST-MODIFIED:20260206T212522Z
UID:3164-1774429200-1774544400@www.radiationready.org
SUMMARY:2026 NARR Annual Meeting
DESCRIPTION:
URL:https://www.radiationready.org/events/2026-narr-annual-meeting/
LOCATION:Arlington\, VA\, Arlington\, VA\, United States
END:VEVENT
END:VCALENDAR